BEGIN:VCALENDAR
VERSION:2.0
PRODID:-//Sampford Peverell Parish Council//Meeting Calendar//EN
CALSCALE:GREGORIAN
METHOD:PUBLISH
BEGIN:VEVENT
UID:70969-20260509@sampfordpeverellparishcouncil.gov.uk
DTSTAMP:20260420T164653Z
DTSTART;VALUE=DATE:20260509
DTEND;VALUE=DATE:20260510
SUMMARY:Annual Parish Meeting
DESCRIPTION:Annual Meeting\nView details: https://sampfordpeverellparishcouncil.gov.uk/meetings/annual-parish-meeting/
URL:https://sampfordpeverellparishcouncil.gov.uk/meetings/annual-parish-meeting/
END:VEVENT
END:VCALENDAR
