BEGIN:VCALENDAR
VERSION:2.0
PRODID:-//Sampford Peverell Parish Council//Meeting Calendar//EN
CALSCALE:GREGORIAN
METHOD:PUBLISH
BEGIN:VEVENT
UID:70963-20260420@sampfordpeverellparishcouncil.gov.uk
DTSTAMP:20260423T103111Z
DTSTART;VALUE=DATE:20260420
DTEND;VALUE=DATE:20260421
SUMMARY:Parish Council Meeting &#8211\\; 20 April 2026
DESCRIPTION:Full Council Meeting\nView details: https://sampfordpeverellparishcouncil.gov.uk/meetings/parish-council-meeting-20-april-2026/
URL:https://sampfordpeverellparishcouncil.gov.uk/meetings/parish-council-meeting-20-april-2026/
END:VEVENT
END:VCALENDAR
