BEGIN:VCALENDAR
VERSION:2.0
PRODID:-//Sampford Peverell Parish Council//Meeting Calendar//EN
CALSCALE:GREGORIAN
METHOD:PUBLISH
BEGIN:VEVENT
UID:70731-20241118@sampfordpeverellparishcouncil.gov.uk
DTSTAMP:20260420T215106Z
DTSTART;VALUE=DATE:20241118
DTEND;VALUE=DATE:20241119
SUMMARY:Finance Committee Meeting &#8211\\; 18 November 2024
DESCRIPTION:Finance Meeting\nView details: https://sampfordpeverellparishcouncil.gov.uk/meetings/finance-committee-meeting-18-november-2024/
URL:https://sampfordpeverellparishcouncil.gov.uk/meetings/finance-committee-meeting-18-november-2024/
END:VEVENT
END:VCALENDAR
