BEGIN:VCALENDAR
VERSION:2.0
PRODID:-//Sampford Peverell Parish Council//Meeting Calendar//EN
CALSCALE:GREGORIAN
METHOD:PUBLISH
BEGIN:VEVENT
UID:70651-20231204@sampfordpeverellparishcouncil.gov.uk
DTSTAMP:20260420T214904Z
DTSTART;VALUE=DATE:20231204
DTEND;VALUE=DATE:20231205
SUMMARY:Finance Meeting &#8211\\; 4 December 2023
DESCRIPTION:Finance Meeting\nView details: https://sampfordpeverellparishcouncil.gov.uk/meetings/finance-meeting-4-december-2023/
URL:https://sampfordpeverellparishcouncil.gov.uk/meetings/finance-meeting-4-december-2023/
END:VEVENT
END:VCALENDAR
